BEGIN:VCALENDAR
VERSION:2.0
PRODID:spatie/icalendar-generator
DESCRIPTION:Events from Spring Mountain Community Center
X-WR-CALDESC:Events from Spring Mountain Community Center
REFRESH-INTERVAL;VALUE=DURATION:PT1440M
X-PUBLISHED-TTL:PT1440M
BEGIN:VTIMEZONE
TZID:America/New_York
BEGIN:STANDARD
DTSTART:20251102T020000Z
TZOFFSETFROM:-0400
TZOFFSETTO:-0500
END:STANDARD
BEGIN:DAYLIGHT
DTSTART:20260308T020000Z
TZOFFSETFROM:-0500
TZOFFSETTO:-0400
END:DAYLIGHT
END:VTIMEZONE
BEGIN:VTIMEZONE
TZID:UTC
BEGIN:STANDARD
DTSTART:20250727T162748Z
TZOFFSETFROM:+0000
TZOFFSETTO:+0000
END:STANDARD
END:VTIMEZONE
BEGIN:VEVENT
UID:39815-1000
DTSTAMP:20260423T162748Z
SUMMARY:Private Event - Upper Level &amp;amp\; Pavilion
LOCATION:
ORGANIZER;CN=springmtncc:MAILTO:bdgdbr@gmail.com
DTSTART;TZID=America/New_York:20260411T100000
DTEND;TZID=America/New_York:20260411T160000
X-ALT-DESC;FMTTYPE=TEXT/HTML:Cindy Bailey
CATEGORIES:PRIVATE EVENT - UPPER LEVEL &amp; PAVILION
URL;VALUE=URI:https://springmountaincc.com/mc-events/private-event-upper-le
 vel-pavilion-7/
METHOD:PUBLISH
END:VEVENT
END:VCALENDAR